BEGIN:VCALENDAR
PRODID:http://wibix.de/infusions/pro_download_panel/download.php?did=27
VERSION:2.0
METHOD:PUBLISH
BEGIN:VEVENT
DTSTART:20160917T230000Z
UID:485@http://sg-ozl.de/
DTSTAMP:20160912T075646Z
DESCRIPTION:ab 17:00 Uhr in der Gaststätte &quot;Zur Linde&quot;
SUMMARY:Schnitzelessen
CLASS:PUBLIC
END:VEVENT
END:VCALENDAR
