BEGIN:VCALENDAR
PRODID:http://wibix.de/infusions/pro_download_panel/download.php?did=27
VERSION:2.0
METHOD:PUBLISH
BEGIN:VEVENT
DTSTART:20160630T230000Z
UID:462@http://sg-ozl.de/
DTSTAMP:20160701T132901Z
DESCRIPTION:Training um 19:00 Uhr auf dem Sportplatz in Ostheim!
SUMMARY:Training
CLASS:PUBLIC
END:VEVENT
END:VCALENDAR
