BEGIN:VCALENDAR
PRODID:http://wibix.de/infusions/pro_download_panel/download.php?did=27
VERSION:2.0
METHOD:PUBLISH
BEGIN:VEVENT
DTSTART:20160226T191500Z
DTEND:20160226T220000Z
UID:426@http://sg-ozl.de/
DTSTAMP:20160224T212301Z
DESCRIPTION:Freundschaftsspiel gegen Diemeltal
SUMMARY:Freundschaftsspiel
LOCATION:Sauerbacharena Ostheim
CLASS:PUBLIC
END:VEVENT
END:VCALENDAR
