BEGIN:VCALENDAR
PRODID:http://wibix.de/infusions/pro_download_panel/download.php?did=27
VERSION:2.0
METHOD:PUBLISH
BEGIN:VEVENT
DTSTART:20160219T000000Z
UID:425@http://sg-ozl.de/
DTSTAMP:20160218T080624Z
DESCRIPTION:TSG Hofgeismar - SG O/Z/L\n\nOrt: Hofgeismar\n\nAnstoß: 19:30 Uhr
SUMMARY:Testspiel
CLASS:PUBLIC
END:VEVENT
END:VCALENDAR
