BEGIN:VCALENDAR
PRODID:http://wibix.de/infusions/pro_download_panel/download.php?did=27
VERSION:2.0
METHOD:PUBLISH
BEGIN:VEVENT
DTSTART:20151216T000000Z
UID:414@http://sg-ozl.de/
DTSTAMP:20151211T101846Z
DESCRIPTION:in Liebenau um 19:45 Uhr
SUMMARY:Hallentraining
CLASS:PUBLIC
END:VEVENT
END:VCALENDAR
