BEGIN:VCALENDAR
PRODID:http://wibix.de/infusions/pro_download_panel/download.php?did=27
VERSION:2.0
METHOD:PUBLISH
BEGIN:VEVENT
DTSTART:20151113T000000Z
UID:401@http://sg-ozl.de/
DTSTAMP:20151110T092725Z
DESCRIPTION:Training auf dem Sportplatz in Ostheim um 18:45 Uhr!
SUMMARY:Training
CLASS:PUBLIC
END:VEVENT
END:VCALENDAR
