BEGIN:VCALENDAR
PRODID:http://wibix.de/infusions/pro_download_panel/download.php?did=27
VERSION:2.0
METHOD:PUBLISH
BEGIN:VEVENT
DTSTART:20151003T230000Z
UID:385@http://sg-ozl.de/
DTSTAMP:20151004T092931Z
DESCRIPTION:Anstoß: 13:00 Uhr\n\nOrt: Deisel
SUMMARY:TSV Deisel II - SG O/Z/L II
CLASS:PUBLIC
END:VEVENT
END:VCALENDAR
