BEGIN:VCALENDAR
PRODID:http://wibix.de/infusions/pro_download_panel/download.php?did=27
VERSION:2.0
METHOD:PUBLISH
BEGIN:VEVENT
DTSTART:20150204T000000Z
UID:296@http://sg-ozl.de/
DTSTAMP:20150204T074753Z
DESCRIPTION:Beginn: 19:30 Uhr\nZu jedem Training sind Hallen- und Laufschuhe mitzubringen!
SUMMARY:Hallentraining in Liebenau
CLASS:PUBLIC
END:VEVENT
END:VCALENDAR
