BEGIN:VCALENDAR
PRODID:http://wibix.de/infusions/pro_download_panel/download.php?did=27
VERSION:2.0
METHOD:PUBLISH
BEGIN:VEVENT
DTSTART:20130404T230000Z
UID:194@http://sg-ozl.de/
DTSTAMP:20130402T180920Z
DESCRIPTION:Anstoß: 18:00 Uhr\n\nOrt: Deisel\n\nTreffen in Ostheim: 17:00 Uhr
SUMMARY:TSV Deisel II - SG O/Z/L
CLASS:PUBLIC
END:VEVENT
END:VCALENDAR
