BEGIN:VCALENDAR
PRODID:http://wibix.de/infusions/pro_download_panel/download.php?did=27
VERSION:2.0
METHOD:PUBLISH
BEGIN:VEVENT
DTSTART:20130313T000000Z
UID:185@http://sg-ozl.de/
DTSTAMP:20130313T085241Z
DESCRIPTION:in Liebenau um 18:45 Uhr
SUMMARY:Hallentraining
CLASS:PUBLIC
END:VEVENT
END:VCALENDAR
