BEGIN:VCALENDAR
PRODID:http://wibix.de/infusions/pro_download_panel/download.php?did=27
VERSION:2.0
METHOD:PUBLISH
BEGIN:VEVENT
DTSTART:20130303T000000Z
UID:182@http://sg-ozl.de/
DTSTAMP:20130301T120724Z
DESCRIPTION:TSV Naumburg II - SG O/Z/L\n\nOrt: Naumburg\n\nAnstoß: 13:15 Uhr
SUMMARY:Rückrundenauftakt
CLASS:PUBLIC
END:VEVENT
END:VCALENDAR
