BEGIN:VCALENDAR
PRODID:http://wibix.de/infusions/pro_download_panel/download.php?did=27
VERSION:2.0
METHOD:PUBLISH
BEGIN:VEVENT
DTSTART:20121231T000000Z
UID:166@http://sg-ozl.de/
DTSTAMP:20121229T211420Z
DESCRIPTION:Kosten: 20 Euro
SUMMARY:Silvester im Dorfgemeinschaftshaus
CLASS:PUBLIC
END:VEVENT
END:VCALENDAR
