BEGIN:VCALENDAR
PRODID:http://wibix.de/infusions/pro_download_panel/download.php?did=27
VERSION:2.0
METHOD:PUBLISH
BEGIN:VEVENT
DTSTART:20121224T000000Z
UID:164@http://sg-ozl.de/
DTSTAMP:20121218T123934Z
DESCRIPTION:Beginn: 22 Uhr\n\nKosten: 10 Euro
SUMMARY:Heiligabend im Dorfgemeinschaftshaus
CLASS:PUBLIC
END:VEVENT
END:VCALENDAR
